BEGIN:VCALENDAR
VERSION:2.0
PRODID:-//Glasshouse Mountains Golf Zone - ECPv4.6//NONSGML v1.0//EN
CALSCALE:GREGORIAN
METHOD:PUBLISH
X-WR-CALNAME:Glasshouse Mountains Golf Zone
X-ORIGINAL-URL:https://gmgz.com.au
X-WR-CALDESC:Events for Glasshouse Mountains Golf Zone
BEGIN:VEVENT
DTSTART;TZID=UTC+10:20190203T070000
DTEND;TZID=UTC+10:20190203T093000
DTSTAMP:20190226T185429
CREATED:20190102T224302Z
LAST-MODIFIED:20190102T224619Z
UID:2660-1549177200-1549186200@gmgz.com.au
SUMMARY:2019 Bribie Island Junior Open
DESCRIPTION:2019 bribe island junior golf open\nGreg Norman Junior Masters Age Qualifier\nInvincibles Tour/Sunshine Coast qualifier and WK event\nSunday\, 3 February 2019\n18 hole Junior Boys\n18 hole Junior Girls\n9 hole Cadet Boys\n9 hole Cadet Girls\n6 hole Cadet Boys and Girls\nsausage sizzle after game \nEntries close – Wednesday\, 30 JANUARY 2019\nPayment is required with entry \nThe draw will be posted on the website at: www.bribiegolf.com.au\nby 5.00 pm on Friday 1 February under Upcoming Golf Events \nBribie Island Golf Club – Links Court WOORIM Bribie Island\, QLD 4507\nAll bookings to be made by email to bribiejuniors@gmail.com \nCLICK HERE for Details and Entry Form \n
URL:https://gmgz.com.au/event/2019-bribie-island-junior-open/
LOCATION:Links Court\, Woorim\, Queensland\, 4507\, Australia
CATEGORIES:Junior Golf Event
ATTACH;FMTTYPE=image/png:https://gmgz.com.au/wp-content/uploads/2019/01/Publication1.png
ORGANIZER;CN="Lyn%20Ball":MAILTO:bribiejuniors@gmail.com
END:VEVENT
END:VCALENDAR