BEGIN:VCALENDAR
VERSION:2.0
PRODID:-//Glasshouse Mountains Golf Zone - ECPv4.8.2//NONSGML v1.0//EN
CALSCALE:GREGORIAN
METHOD:PUBLISH
X-WR-CALNAME:Glasshouse Mountains Golf Zone
X-ORIGINAL-URL:https://gmgz.com.au
X-WR-CALDESC:Events for Glasshouse Mountains Golf Zone
BEGIN:VEVENT
DTSTART;VALUE=DATE:20201004
DTEND;VALUE=DATE:20201005
DTSTAMP:20200225T161125
CREATED:20190421T103746Z
LAST-MODIFIED:20191214T040916Z
UID:2707-1601769600-1601855999@gmgz.com.au
SUMMARY:GMGZJA FUTURE TOUR @ CABOOLTURE
DESCRIPTION:Open to boys and girls under 18 years of age who are cadet/junior members of a golf club. For details of the Future Tour see https://gmgz.com.au/future-tour/  \nAll event information will be posted in this space and the online entry form will open approx. 2 weeks before the event. \nThe draw will also be posted here on the Friday evening prior to the event. \n
URL:https://gmgz.com.au/event/gmzjga-future-tour-round-11-caboolture/
LOCATION:Caboolture Golf Club\, Lesley Avenue\, Caboolture\, Qld\, 4510\, Australia
CATEGORIES:Junior Golf Event
ATTACH;FMTTYPE=image/jpeg:https://gmgz.com.au/wp-content/uploads/2019/04/Kids-Golf_386x251.jpg
END:VEVENT
END:VCALENDAR